BEGIN:VCALENDAR
VERSION:2.0
PRODID:-//SMEE - ECPv6.15.12.2//NONSGML v1.0//EN
CALSCALE:GREGORIAN
METHOD:PUBLISH
X-ORIGINAL-URL:https://www.sm-ee.co.uk
X-WR-CALDESC:Events for SMEE
REFRESH-INTERVAL;VALUE=DURATION:PT1H
X-Robots-Tag:noindex
X-PUBLISHED-TTL:PT1H
BEGIN:VTIMEZONE
TZID:Europe/Paris
BEGIN:DAYLIGHT
TZOFFSETFROM:+0100
TZOFFSETTO:+0200
TZNAME:CEST
DTSTART:20230326T010000
END:DAYLIGHT
BEGIN:STANDARD
TZOFFSETFROM:+0200
TZOFFSETTO:+0100
TZNAME:CET
DTSTART:20231029T010000
END:STANDARD
BEGIN:DAYLIGHT
TZOFFSETFROM:+0100
TZOFFSETTO:+0200
TZNAME:CEST
DTSTART:20240331T010000
END:DAYLIGHT
BEGIN:STANDARD
TZOFFSETFROM:+0200
TZOFFSETTO:+0100
TZNAME:CET
DTSTART:20241027T010000
END:STANDARD
BEGIN:DAYLIGHT
TZOFFSETFROM:+0100
TZOFFSETTO:+0200
TZNAME:CEST
DTSTART:20250330T010000
END:DAYLIGHT
BEGIN:STANDARD
TZOFFSETFROM:+0200
TZOFFSETTO:+0100
TZNAME:CET
DTSTART:20251026T010000
END:STANDARD
END:VTIMEZONE
BEGIN:VEVENT
DTSTART;TZID=Europe/Paris:20240504T143000
DTEND;TZID=Europe/Paris:20240504T163000
DTSTAMP:20260421T135116
CREATED:20231202T154401Z
LAST-MODIFIED:20231202T154401Z
UID:11743-1714833000-1714840200@www.sm-ee.co.uk
SUMMARY:General Meeting: Drains\, Trains & Remains by Marilyn Greene
DESCRIPTION:
URL:https://www.sm-ee.co.uk/event/general-meeting-drains-trains-remains-by-marilyn-greene/
END:VEVENT
BEGIN:VEVENT
DTSTART;TZID=Europe/Paris:20240511T103000
DTEND;TZID=Europe/Paris:20240511T120000
DTSTAMP:20260421T135116
CREATED:20231202T154509Z
LAST-MODIFIED:20231202T154509Z
UID:11745-1715423400-1715428800@www.sm-ee.co.uk
SUMMARY:Digital Group -Online
DESCRIPTION:
URL:https://www.sm-ee.co.uk/event/digital-group-online-6/
END:VEVENT
BEGIN:VEVENT
DTSTART;VALUE=DATE:20240515
DTEND;VALUE=DATE:20240516
DTSTAMP:20260421T135116
CREATED:20240306T151143Z
LAST-MODIFIED:20240306T151143Z
UID:11817-1715731200-1715817599@www.sm-ee.co.uk
SUMMARY:Visit - Amberley Museum
DESCRIPTION:
URL:https://www.sm-ee.co.uk/event/visit-amberley-museum/
END:VEVENT
BEGIN:VEVENT
DTSTART;TZID=Europe/Paris:20240518T143000
DTEND;TZID=Europe/Paris:20240518T163000
DTSTAMP:20260421T135116
CREATED:20231202T154631Z
LAST-MODIFIED:20231202T154631Z
UID:11747-1716042600-1716049800@www.sm-ee.co.uk
SUMMARY:EBG - Blondihacks by Quinn Dunki
DESCRIPTION:
URL:https://www.sm-ee.co.uk/event/ebg-blondihacks-by-quinn-dunki/
END:VEVENT
END:VCALENDAR